BEGIN:VCALENDAR
VERSION:2.0
PRODID:-//Janet Clark - Helene Winter - Clara Lindemann - ECPv6.15.20//NONSGML v1.0//EN
CALSCALE:GREGORIAN
METHOD:PUBLISH
X-WR-CALNAME:Janet Clark - Helene Winter - Clara Lindemann
X-ORIGINAL-URL:https://janet-clark.de
X-WR-CALDESC:Veranstaltungen für Janet Clark - Helene Winter - Clara Lindemann
REFRESH-INTERVAL;VALUE=DURATION:PT1H
X-Robots-Tag:noindex
X-PUBLISHED-TTL:PT1H
BEGIN:VTIMEZONE
TZID:Europe/Berlin
BEGIN:DAYLIGHT
TZOFFSETFROM:+0100
TZOFFSETTO:+0200
TZNAME:CEST
DTSTART:20230326T010000
END:DAYLIGHT
BEGIN:STANDARD
TZOFFSETFROM:+0200
TZOFFSETTO:+0100
TZNAME:CET
DTSTART:20231029T010000
END:STANDARD
BEGIN:DAYLIGHT
TZOFFSETFROM:+0100
TZOFFSETTO:+0200
TZNAME:CEST
DTSTART:20240331T010000
END:DAYLIGHT
BEGIN:STANDARD
TZOFFSETFROM:+0200
TZOFFSETTO:+0100
TZNAME:CET
DTSTART:20241027T010000
END:STANDARD
BEGIN:DAYLIGHT
TZOFFSETFROM:+0100
TZOFFSETTO:+0200
TZNAME:CEST
DTSTART:20250330T010000
END:DAYLIGHT
BEGIN:STANDARD
TZOFFSETFROM:+0200
TZOFFSETTO:+0100
TZNAME:CET
DTSTART:20251026T010000
END:STANDARD
END:VTIMEZONE
BEGIN:VEVENT
DTSTART;TZID=Europe/Berlin:20240617T190000
DTEND;TZID=Europe/Berlin:20240617T203000
DTSTAMP:20260421T051200
CREATED:20240527T141117Z
LAST-MODIFIED:20260129T235728Z
UID:1365-1718650800-1718656200@janet-clark.de
SUMMARY:Der schwarze Winter
DESCRIPTION:Lesung aus „Der schwarze Winter“ in der Stadtbücherei Enger im Rahmen der „Nachhaltigen Lesetour“ \n\n\n\nBahnhofstraße 15\, 32120 Enger
URL:https://janet-clark.de/event/der-schwarze-winter/
CATEGORIES:Lesung,Veranstaltung
END:VEVENT
END:VCALENDAR