BEGIN:VCALENDAR
VERSION:2.0
PRODID:-//Janet Clark - Helene Winter - Clara Lindemann - ECPv6.15.20//NONSGML v1.0//EN
CALSCALE:GREGORIAN
METHOD:PUBLISH
X-ORIGINAL-URL:https://janet-clark.de
X-WR-CALDESC:Veranstaltungen für Janet Clark - Helene Winter - Clara Lindemann
REFRESH-INTERVAL;VALUE=DURATION:PT1H
X-Robots-Tag:noindex
X-PUBLISHED-TTL:PT1H
BEGIN:VTIMEZONE
TZID:Europe/Berlin
BEGIN:DAYLIGHT
TZOFFSETFROM:+0100
TZOFFSETTO:+0200
TZNAME:CEST
DTSTART:20230326T010000
END:DAYLIGHT
BEGIN:STANDARD
TZOFFSETFROM:+0200
TZOFFSETTO:+0100
TZNAME:CET
DTSTART:20231029T010000
END:STANDARD
BEGIN:DAYLIGHT
TZOFFSETFROM:+0100
TZOFFSETTO:+0200
TZNAME:CEST
DTSTART:20240331T010000
END:DAYLIGHT
BEGIN:STANDARD
TZOFFSETFROM:+0200
TZOFFSETTO:+0100
TZNAME:CET
DTSTART:20241027T010000
END:STANDARD
BEGIN:DAYLIGHT
TZOFFSETFROM:+0100
TZOFFSETTO:+0200
TZNAME:CEST
DTSTART:20250330T010000
END:DAYLIGHT
BEGIN:STANDARD
TZOFFSETFROM:+0200
TZOFFSETTO:+0100
TZNAME:CET
DTSTART:20251026T010000
END:STANDARD
END:VTIMEZONE
BEGIN:VEVENT
DTSTART;TZID=Europe/Berlin:20241109T150000
DTEND;TZID=Europe/Berlin:20241109T170000
DTSTAMP:20260420T225541
CREATED:20240527T140938Z
LAST-MODIFIED:20260129T235714Z
UID:1370-1731164400-1731171600@janet-clark.de
SUMMARY:Das Weiße Haus am Rhein
DESCRIPTION:Lesung aus „Das weiße Haus am Rhein“ im Rahmen der „Nachhaltigen Lesetour“ in der Stadtbibliothek Schwandorf\, Sandstraße 5\, 92421 Schwandorf.
URL:https://janet-clark.de/event/das-weisse-haus-am-rhein/
CATEGORIES:Lesung,Veranstaltung
END:VEVENT
END:VCALENDAR